BEGIN:VCALENDAR
VERSION:2.0
PRODID:-//Cheltenham Zero - ECPv6.15.20//NONSGML v1.0//EN
CALSCALE:GREGORIAN
METHOD:PUBLISH
X-WR-CALNAME:Cheltenham Zero
X-ORIGINAL-URL:https://cheltenhamzero.org
X-WR-CALDESC:Events for Cheltenham Zero
REFRESH-INTERVAL;VALUE=DURATION:PT1H
X-Robots-Tag:noindex
X-PUBLISHED-TTL:PT1H
BEGIN:VTIMEZONE
TZID:Europe/London
BEGIN:DAYLIGHT
TZOFFSETFROM:+0000
TZOFFSETTO:+0100
TZNAME:BST
DTSTART:20220327T010000
END:DAYLIGHT
BEGIN:STANDARD
TZOFFSETFROM:+0100
TZOFFSETTO:+0000
TZNAME:GMT
DTSTART:20221030T010000
END:STANDARD
BEGIN:DAYLIGHT
TZOFFSETFROM:+0000
TZOFFSETTO:+0100
TZNAME:BST
DTSTART:20230326T010000
END:DAYLIGHT
BEGIN:STANDARD
TZOFFSETFROM:+0100
TZOFFSETTO:+0000
TZNAME:GMT
DTSTART:20231029T010000
END:STANDARD
BEGIN:DAYLIGHT
TZOFFSETFROM:+0000
TZOFFSETTO:+0100
TZNAME:BST
DTSTART:20240331T010000
END:DAYLIGHT
BEGIN:STANDARD
TZOFFSETFROM:+0100
TZOFFSETTO:+0000
TZNAME:GMT
DTSTART:20241027T010000
END:STANDARD
END:VTIMEZONE
BEGIN:VEVENT
DTSTART;TZID=Europe/London:20230308T090000
DTEND;TZID=Europe/London:20230308T133000
DTSTAMP:20260419T141038
CREATED:20230301T102726Z
LAST-MODIFIED:20230301T102726Z
UID:2138-1678266000-1678282200@cheltenhamzero.org
SUMMARY:A Beginners Guide to Net Zero Strategy
DESCRIPTION:CIRENCESTER GROWTH HUB EVENT \nNet Zero is everywhere. It’s becoming woven into everyday business talk\, and businesses are being encouraged to work on their Net Zero strategy. But what exactly is Net Zero? How on planet earth do you know where to start? And what are the meanings of all these buzzwords? \nOur experts are here to put on the brakes and take things back to square one\, helping define Net Zero and what it means for your business. \nIn partnership with Farm491\, we have created a beginner’s guide to Net Zero for all businesses in Gloucestershire. Here to help you with jargon-busting\, applying simple strategies\, and telling your story\, this event will give you the confidence and know-how to get started in your journey. Nothing like getting back to the basics! \nWe are proud to welcome guest speakers from St James Placeand The Growth Hub who will help you Learn It\, Plan It\, and Tell It. \nHere’s what we will cover during the course of the event: \nLearn it – \n\nJargon-busting.\nMyth-busting.\nCarbon reporting.\n\nPlan it –  \n\nImplementing changes.\nSpheres of influence\n\nTell It –  \n\nHow to communicate your story.\nHow to communicate with authenticity.\nCase Studies.\nThe benefits this brings your organisation.\n\nThis will be followed by a Q&A with all speakers and a chance to network with like-minded business leaders. \nThe event is free to attend for Gloucestershire SMEs\, but spaces are limited. We look forward to welcoming you and your colleagues to the event.
URL:https://cheltenhamzero.org/event/a-beginners-guide-to-net-zero-strategy
LOCATION:Cirecester Growth Hub
ATTACH;FMTTYPE=image/webp:https://cheltenhamzero.org/wp-content/uploads/2023/03/https-cdn.evbuc_.com-images-440791629-265882792857-1-original.20230207-092325.webp
END:VEVENT
END:VCALENDAR